{
 "currentVersion": 11.5,
 "cimVersion": "3.5.0",
 "serviceDescription": "Carta Geológica da Zona Sul Portuguesa, escala 1:400 000 (2020), elaborado para o Proecto GEO_FPI conjuntamente entre IGME (Espanha) e LNEG (Portugal).",
 "mapName": "Carta Geológica da Zona Sul Portuguesa",
 "description": "Carta Geológica da Zona Sul Portuguesa, escala 1:400 000 (2020), elaborado para o Proecto GEO_FPI conjuntamente entre IGME (Espanha) e LNEG (Portugal).",
 "copyrightText": "IGME e LNEG",
 "supportsDynamicLayers": true,
 "layers": [
  {
   "id": 0,
   "name": "Topografia",
   "parentLayerId": -1,
   "defaultVisibility": false,
   "subLayerIds": [
    1,
    2,
    3,
    5,
    6,
    11
   ],
   "minScale": 0,
   "maxScale": 0,
   "type": "Group Layer",
   "supportsDynamicLegends": false
  },
  {
   "id": 1,
   "name": "Municipios",
   "parentLayerId": 0,
   "defaultVisibility": true,
   "subLayerIds": null,
   "minScale": 0,
   "maxScale": 0,
   "type": "Feature Layer",
   "geometryType": "esriGeometryPoint",
   "supportsDynamicLegends": true
  },
  {
   "id": 2,
   "name": "Estradas",
   "parentLayerId": 0,
   "defaultVisibility": true,
   "subLayerIds": null,
   "minScale": 0,
   "maxScale": 0,
   "type": "Feature Layer",
   "geometryType": "esriGeometryPolyline",
   "supportsDynamicLegends": true
  },
  {
   "id": 3,
   "name": "Hidrografia - Nomes",
   "parentLayerId": 0,
   "defaultVisibility": true,
   "subLayerIds": [
    4
   ],
   "minScale": 0,
   "maxScale": 0,
   "type": "Annotation Layer",
   "geometryType": "esriGeometryPolygon",
   "supportsDynamicLegends": false
  },
  {
   "id": 4,
   "name": "Default",
   "parentLayerId": 3,
   "defaultVisibility": true,
   "subLayerIds": null,
   "minScale": 0,
   "maxScale": 0,
   "supportsDynamicLegends": false
  },
  {
   "id": 5,
   "name": "Hidrografia",
   "parentLayerId": 0,
   "defaultVisibility": true,
   "subLayerIds": null,
   "minScale": 0,
   "maxScale": 0,
   "type": "Feature Layer",
   "geometryType": "esriGeometryPolyline",
   "supportsDynamicLegends": true
  },
  {
   "id": 6,
   "name": "Municipios - Nomes",
   "parentLayerId": 0,
   "defaultVisibility": true,
   "subLayerIds": [
    7,
    8,
    9,
    10
   ],
   "minScale": 0,
   "maxScale": 0,
   "type": "Annotation Layer",
   "geometryType": "esriGeometryPolygon",
   "supportsDynamicLegends": false
  },
  {
   "id": 7,
   "name": "Default",
   "parentLayerId": 6,
   "defaultVisibility": false,
   "subLayerIds": null,
   "minScale": 0,
   "maxScale": 0,
   "supportsDynamicLegends": false
  },
  {
   "id": 8,
   "name": "MUNICIPIO",
   "parentLayerId": 6,
   "defaultVisibility": true,
   "subLayerIds": null,
   "minScale": 0,
   "maxScale": 0,
   "supportsDynamicLegends": false
  },
  {
   "id": 9,
   "name": "PROVINCIPA",
   "parentLayerId": 6,
   "defaultVisibility": true,
   "subLayerIds": null,
   "minScale": 0,
   "maxScale": 0,
   "supportsDynamicLegends": false
  },
  {
   "id": 10,
   "name": "NOCAPITAL",
   "parentLayerId": 6,
   "defaultVisibility": true,
   "subLayerIds": null,
   "minScale": 0,
   "maxScale": 0,
   "supportsDynamicLegends": false
  },
  {
   "id": 11,
   "name": "Municipios",
   "parentLayerId": 0,
   "defaultVisibility": true,
   "subLayerIds": null,
   "minScale": 0,
   "maxScale": 0,
   "type": "Feature Layer",
   "geometryType": "esriGeometryPolygon",
   "supportsDynamicLegends": true
  },
  {
   "id": 12,
   "name": "Geologia",
   "parentLayerId": -1,
   "defaultVisibility": true,
   "subLayerIds": [
    13,
    14
   ],
   "minScale": 0,
   "maxScale": 0,
   "type": "Group Layer",
   "supportsDynamicLegends": false
  },
  {
   "id": 13,
   "name": "Contactos e Estruturas",
   "parentLayerId": 12,
   "defaultVisibility": true,
   "subLayerIds": null,
   "minScale": 0,
   "maxScale": 0,
   "type": "Feature Layer",
   "geometryType": "esriGeometryPolyline",
   "supportsDynamicLegends": true
  },
  {
   "id": 14,
   "name": "Unidades Geológicas",
   "parentLayerId": 12,
   "defaultVisibility": true,
   "subLayerIds": null,
   "minScale": 0,
   "maxScale": 0,
   "type": "Feature Layer",
   "geometryType": "esriGeometryPolygon",
   "supportsDynamicLegends": true
  },
  {
   "id": 15,
   "name": "Modelo Digital de Terreno 400K",
   "parentLayerId": -1,
   "defaultVisibility": true,
   "subLayerIds": null,
   "minScale": 0,
   "maxScale": 0,
   "type": "Raster Layer",
   "supportsDynamicLegends": true
  },
  {
   "id": 16,
   "name": "Batimetria - Curvas",
   "parentLayerId": -1,
   "defaultVisibility": false,
   "subLayerIds": [
    17,
    18,
    19
   ],
   "minScale": 0,
   "maxScale": 0,
   "type": "Group Layer",
   "supportsDynamicLegends": false
  },
  {
   "id": 17,
   "name": "Batimetria 1000m",
   "parentLayerId": 16,
   "defaultVisibility": true,
   "subLayerIds": null,
   "minScale": 0,
   "maxScale": 0,
   "type": "Feature Layer",
   "geometryType": "esriGeometryPolyline",
   "supportsDynamicLegends": true
  },
  {
   "id": 18,
   "name": "Batimetria 500m",
   "parentLayerId": 16,
   "defaultVisibility": true,
   "subLayerIds": null,
   "minScale": 0,
   "maxScale": 0,
   "type": "Feature Layer",
   "geometryType": "esriGeometryPolyline",
   "supportsDynamicLegends": true
  },
  {
   "id": 19,
   "name": "Batimetria 200",
   "parentLayerId": 16,
   "defaultVisibility": true,
   "subLayerIds": null,
   "minScale": 0,
   "maxScale": 0,
   "type": "Feature Layer",
   "geometryType": "esriGeometryPolyline",
   "supportsDynamicLegends": true
  },
  {
   "id": 20,
   "name": "Batimetria",
   "parentLayerId": -1,
   "defaultVisibility": false,
   "subLayerIds": null,
   "minScale": 0,
   "maxScale": 0,
   "type": "Raster Layer",
   "supportsDynamicLegends": true
  },
  {
   "id": 21,
   "name": "Batimetria - Sombreado",
   "parentLayerId": -1,
   "defaultVisibility": false,
   "subLayerIds": null,
   "minScale": 0,
   "maxScale": 0,
   "type": "Raster Layer",
   "supportsDynamicLegends": true
  }
 ],
 "tables": [],
 "spatialReference": {
  "wkid": 102100,
  "latestWkid": 3857,
  "xyTolerance": 0.001,
  "zTolerance": 0.001,
  "mTolerance": 0.001,
  "falseX": -20037700,
  "falseY": -30241100,
  "xyUnits": 10000,
  "falseZ": -100000,
  "zUnits": 10000,
  "falseM": -100000,
  "mUnits": 10000
 },
 "singleFusedMapCache": true,
 "tileInfo": {
  "rows": 256,
  "cols": 256,
  "dpi": 96,
  "format": "Mixed",
  "compressionQuality": 75,
  "origin": {
   "x": -2.0037508342787E7,
   "y": 2.0037508342787E7
  },
  "spatialReference": {
   "wkid": 102100,
   "latestWkid": 3857,
   "xyTolerance": 0.001,
   "zTolerance": 0.001,
   "mTolerance": 0.001,
   "falseX": -20037700,
   "falseY": -30241100,
   "xyUnits": 1.4892314192838538E8,
   "falseZ": -100000,
   "zUnits": 10000,
   "falseM": -100000,
   "mUnits": 10000
  },
  "lods": [
   {
    "level": 0,
    "resolution": 156543.033928,
    "scale": 5.91657527591555E8
   },
   {
    "level": 1,
    "resolution": 78271.5169639999,
    "scale": 2.95828763795777E8
   },
   {
    "level": 2,
    "resolution": 39135.7584820001,
    "scale": 1.47914381897889E8
   },
   {
    "level": 3,
    "resolution": 19567.8792409999,
    "scale": 7.3957190948944E7
   },
   {
    "level": 4,
    "resolution": 9783.93962049996,
    "scale": 3.6978595474472E7
   },
   {
    "level": 5,
    "resolution": 4891.96981024998,
    "scale": 1.8489297737236E7
   },
   {
    "level": 6,
    "resolution": 2445.98490512499,
    "scale": 9244648.868618
   },
   {
    "level": 7,
    "resolution": 1222.99245256249,
    "scale": 4622324.434309
   },
   {
    "level": 8,
    "resolution": 611.49622628138,
    "scale": 2311162.217155
   },
   {
    "level": 9,
    "resolution": 305.748113140558,
    "scale": 1155581.108577
   },
   {
    "level": 10,
    "resolution": 152.874056570411,
    "scale": 577790.554289
   },
   {
    "level": 11,
    "resolution": 76.4370282850732,
    "scale": 288895.277144
   },
   {
    "level": 12,
    "resolution": 38.2185141425366,
    "scale": 144447.638572
   },
   {
    "level": 13,
    "resolution": 19.1092570712683,
    "scale": 72223.819286
   },
   {
    "level": 14,
    "resolution": 9.55462853563415,
    "scale": 36111.909643
   },
   {
    "level": 15,
    "resolution": 4.77731426794937,
    "scale": 18055.954822
   },
   {
    "level": 16,
    "resolution": 2.38865713397468,
    "scale": 9027.977411
   },
   {
    "level": 17,
    "resolution": 1.19432856685505,
    "scale": 4513.988705
   },
   {
    "level": 18,
    "resolution": 0.597164283559817,
    "scale": 2256.994353
   },
   {
    "level": 19,
    "resolution": 0.298582141647617,
    "scale": 1128.497176
   },
   {
    "level": 20,
    "resolution": 0.14929107082380833,
    "scale": 564.248588
   },
   {
    "level": 21,
    "resolution": 0.07464553541190416,
    "scale": 282.124294
   },
   {
    "level": 22,
    "resolution": 0.03732276770595208,
    "scale": 141.062147
   },
   {
    "level": 23,
    "resolution": 0.01866138385297604,
    "scale": 70.5310735
   }
  ]
 },
 "storageInfo": {
  "storageFormat": "esriMapCacheStorageModeCompactV2",
  "packetSize": 128
 },
 "initialExtent": {
  "xmin": -1078439.128167442,
  "ymin": 4401986.017306625,
  "xmax": -610522.5673343204,
  "ymax": 4720280.403895398,
  "spatialReference": {
   "wkid": 102100,
   "latestWkid": 3857,
   "xyTolerance": 0.001,
   "zTolerance": 0.001,
   "mTolerance": 0.001,
   "falseX": -20037700,
   "falseY": -30241100,
   "xyUnits": 10000,
   "falseZ": -100000,
   "zUnits": 10000,
   "falseM": -100000,
   "mUnits": 10000
  }
 },
 "fullExtent": {
  "xmin": -1802378.0233517224,
  "ymin": 3866501.2367541078,
  "xmax": 808742.7185027418,
  "ymax": 6003479.1798759075,
  "zmin": 0,
  "zmax": 0,
  "mmin": null,
  "mmax": null,
  "spatialReference": {
   "wkid": 102100,
   "latestWkid": 3857,
   "xyTolerance": 0.001,
   "zTolerance": 0.001,
   "mTolerance": 0.001,
   "falseX": -20037700,
   "falseY": -30241100,
   "xyUnits": 10000,
   "falseZ": -100000,
   "zUnits": 10000,
   "falseM": -100000,
   "mUnits": 10000
  }
 },
 "datesInUnknownTimezone": false,
 "minScale": 7.3957190948944E7,
 "maxScale": 18055.954822,
 "minLOD": 3,
 "maxLOD": 15,
 "units": "esriMeters",
 "supportedImageFormatTypes": "PNG32,PNG24,PNG,JPG,DIB,TIFF,EMF,PS,PDF,GIF,SVG,SVGZ,BMP",
 "documentInfo": {
  "Title": "Carta Geológica da Zona Sul Portuguesa",
  "Author": "",
  "Comments": "Carta Geológica da Zona Sul Portuguesa, escala 1:400 000 (2020), elaborado para o Proecto GEO_FPI conjuntamente entre IGME (Espanha) e LNEG (Portugal).",
  "Subject": "Carta Geológica da Zona Sul Portuguesa, escala 1:400 000 (2020)",
  "Category": "",
  "Version": "3.5.0",
  "AntialiasingMode": "Fast",
  "TextAntialiasingMode": "Force",
  "Keywords": "Geologia,Cartografia geológica,IGME,LNEG,España,Portugal"
 },
 "supportsQueryDomains": true,
 "capabilities": "Query,Map,Data,TileMap",
 "supportedQueryFormats": "JSON, geoJSON, PBF",
 "exportTilesAllowed": false,
 "referenceScale": 0.0,
 "datumTransformations": [
  {
   "geoTransforms": [
    {
     "wkid": 1149,
     "latestWkid": 1149,
     "transformForward": true,
     "name": "ETRS_1989_To_WGS_1984"
    }
   ]
  },
  {
   "geoTransforms": [
    {
     "wkid": 1149,
     "latestWkid": 1149,
     "transformForward": false,
     "name": "ETRS_1989_To_WGS_1984"
    }
   ]
  }
 ],
 "supportsDatumTransformation": true,
 "archivingInfo": {
  "supportsHistoricMoment": false
 },
 "supportsClipping": true,
 "supportsSpatialFilter": true,
 "supportsTimeRelation": true,
 "supportsQueryDataElements": true,
 "mapUnits": {
  "uwkid": 9001
 },
 "maxSelectionCount": 2000,
 "maxRecordCount": 1000,
 "maxImageHeight": 4096,
 "maxImageWidth": 4096,
 "supportedExtensions": "KmlServer, WMSServer",
 "serviceItemId": "9771f04c50374d7a8ec33b77daadaac5"
}
