View In:
ArcGIS JavaScript
ArcGIS Online Map Viewer
ArcGIS Earth
ArcGIS Pro
Service Description: Carta Geológica da Região Demarcada do Douro, à escala 1:25 000, produzida pelo Instituto Nacional de Engenharia, Tecnologia e Inovação em 2004, no âmbito do projeto Douro Vinhateiro "Macrozonagem da Região Demarcada do Douro" financiado pela Comissão Interprofissional da Região Demarcada do Douro (CIRDD). Cartografia geológica para apoio à caraterização litogeoquímica das Formações do Grupo do Douro da Região Demarcada do Douro.
Map Name: Carta Geológica da Região Demarcada do Douro
Legend
All Layers and Tables
Dynamic Legend
Dynamic All Layers
Layers:
Description: Carta Geológica da Região Demarcada do Douro, à escala 1:25 000, produzida pelo Instituto Nacional de Engenharia, Tecnologia e Inovação em 2004, no âmbito do projeto Douro Vinhateiro "Macrozonagem da Região Demarcada do Douro" financiado pela Comissão Interprofissional da Região Demarcada do Douro (CIRDD). Cartografia geológica para apoio à caraterização litogeoquímica das Formações do Grupo do Douro da Região Demarcada do Douro.
Service Item Id: 6a2b3aeed28f4a85afc1bb11ac72c525
Copyright Text: LNEG - Laboratório Nacional de Energia e Geologia, I.P.
Spatial Reference:
102100
(3857)
LatestVCSWkid(0)
Single Fused Map Cache: true
Tile Info:
- Height: 256.0
- Width: 256.0
- DPI: 96.0
-
Levels of Detail: 24
-
Level ID: 1
[ Start Tile, End Tile ]
- Resolution: 78271.5169639999
- Scale: 2.95828763795777E8
-
Level ID: 2
[ Start Tile, End Tile ]
- Resolution: 39135.7584820001
- Scale: 1.47914381897889E8
-
Level ID: 3
[ Start Tile, End Tile ]
- Resolution: 19567.8792409999
- Scale: 7.3957190948944E7
-
Level ID: 4
[ Start Tile, End Tile ]
- Resolution: 9783.93962049996
- Scale: 3.6978595474472E7
-
Level ID: 5
[ Start Tile, End Tile ]
- Resolution: 4891.96981024998
- Scale: 1.8489297737236E7
- Format: PNG
- Compression Quality: 0.0
- Origin: X: -2.0037508342787E7
Y: 2.0037508342787E7
- Spatial Reference: 102100
(3857)
LatestVCSWkid(0)
Storage Info:
- Storage Format: esriMapCacheStorageModeCompactV2
- Packet Size: 128
Initial Extent:
XMin: -887359.7071652778
YMin: 4987138.424873206
XMax: -752580.6876072385
YMax: 5086555.811207979
Spatial Reference: 102100
(0)
LatestVCSWkid(0)
Full Extent:
XMin: -884198.8392999992
YMin: 5000755.163599998
XMax: -751455.2969000004
YMax: 5090798.483199999
Spatial Reference: 102100
(0)
LatestVCSWkid(0)
Units: esriMeters
Supported Image Format Types: PNG32,PNG24,PNG,JPG,DIB,TIFF,EMF,PS,PDF,GIF,SVG,SVGZ,BMP
Document Info:
Title: Carta Geológica da Região Demarcada do Douro
Author:
Comments: Esta carta foi produzida pelo Instituto Nacional de Engenharia, Tecnologia e Inovação em 2004, no âmbito do projeto Douro Vinhateiro "Macrozonagem da Região Demarcada do Douro" financiado pela Comissão Interprofissional da Região Demarcada do Douro (CIRDD). Tem como principal objetivo o apoio à caraterização litogeoquímica das Formações do Grupo do Douro da Região Demarcada do Douro.
Subject: Carta Geológica da Região Demarcada do Douro, à escala 1:25 000
Category:
Keywords: geologia,cartografia geológica,Região Demarcada do Douro
AntialiasingMode: Fast
TextAntialiasingMode: Force
Supports Dynamic Layers: true
Resampling: false
MaxRecordCount: 1000
MaxSelectionCount: 2000
MaxImageHeight: 4096
MaxImageWidth: 4096
Supported Query Formats: JSON, geoJSON, PBF
Supports Query Data Elements: true
Min Scale: 3.6978595474472E7
Max Scale: 18055.954822
Min LOD: 4
Max LOD: 15
Supports Datum Transformation: true
Child Resources:
Info
Dynamic Layer
Supported Operations:
Export Map
Identify
QueryLegends
QueryDomains
Find
Return Updates
Generate KML