View In:
ArcGIS JavaScript
ArcGIS Online Map Viewer
ArcGIS Earth
ArcGIS Pro
Service Description: <div style='text-align:Left;font-size:12pt'><div><p><span>A Carta Geológica Simplificada das Ilhas da Madeira e do Porto Santo à escala 1:80 000 constitui uma edição conjunta do Laboratório Nacional de Energia e Geologia (LNEG) e da Direção Regional do Comércio, Indústria e Energia da Região Autónoma da Madeira (DRCIERAM), que para além da geologia das Ilhas da Madeira e do Porto Santo, possui também um layer com os principais sítios de interesse geológico-turístico.</span></p></div></div>
Map Name: Carta Geológica Simplificada da Madeira e Porto Santo
Legend
All Layers and Tables
Layers:
Description: A Carta Geológica Simplificada das Ilhas da Madeira e do Porto Santo à escala 1:80 000 constitui uma edição conjunta do Laboratório Nacional de Energia e Geologia (LNEG) e da Direção Regional do Comércio, Indústria e Energia da Região Autónoma da Madeira (DRCIERAM), que para além da geologia das Ilhas da Madeira e do Porto Santo, possui também um layer com os principais sítios de interesse geológico-turístico.
Service Item Id: ec75cf0bef034a988774fe0a24983b77
Copyright Text: LNEG - Laboratório Nacional de Energia e Geologia, I.P.
Spatial Reference:
102100
(3857)
LatestVCSWkid(0)
Single Fused Map Cache: true
Tile Info:
- Height: 256.0
- Width: 256.0
- DPI: 96.0
-
Levels of Detail: 24
-
Level ID: 1
[ Start Tile, End Tile ]
- Resolution: 78271.5169639999
- Scale: 2.95828763795777E8
-
Level ID: 2
[ Start Tile, End Tile ]
- Resolution: 39135.7584820001
- Scale: 1.47914381897889E8
-
Level ID: 3
[ Start Tile, End Tile ]
- Resolution: 19567.8792409999
- Scale: 7.3957190948944E7
-
Level ID: 4
[ Start Tile, End Tile ]
- Resolution: 9783.93962049996
- Scale: 3.6978595474472E7
-
Level ID: 5
[ Start Tile, End Tile ]
- Resolution: 4891.96981024998
- Scale: 1.8489297737236E7
- Format: PNG
- Compression Quality: 0.0
- Origin: X: -2.0037508342787E7
Y: 2.0037508342787E7
- Spatial Reference: 102100
(3857)
LatestVCSWkid(0)
Storage Info:
- Storage Format: esriMapCacheStorageModeCompactV2
- Packet Size: 128
Initial Extent:
XMin: -1931052.5293604601
YMin: 3839177.314521728
XMax: -1802993.939909948
YMax: 3919081.6409970475
Spatial Reference: 102100
(3857)
LatestVCSWkid(0)
Full Extent:
XMin: -1922169.9167531366
YMin: 3845930.3041209085
XMax: -1811876.5525172718
YMax: 3912328.651397867
Spatial Reference: 102100
(3857)
LatestVCSWkid(0)
Units: esriMeters
Supported Image Format Types: PNG32,PNG24,PNG,JPG,DIB,TIFF,EMF,PS,PDF,GIF,SVG,SVGZ,BMP
Document Info:
Title: Carta Geológica Simplificada das Ilhas da Madeira e do Porto Santo, escala 80 000
Author:
Comments: A Carta Geológica Simplificada das Ilhas da Madeira e do Porto Santo à escala 1:80 000 constitui uma edição conjunta do Laboratório Nacional de Energia e Geologia (LNEG) e da Direção Regional do Comércio, Indústria e Energia da Região Autónoma da Madeira (DRCIERAM), que para além da geologia das Ilhas da Madeira e do Porto Santo, possui também um layer com os principais sítios de interesse geológico-turístico.
Subject: Carta Geológica Simplificada das Ilhas da Madeira e do Porto Santo, escala 80 000
Category:
Keywords: geologia,portugal,cartografia geológica,mapa
AntialiasingMode: Fast
TextAntialiasingMode: Force
Supports Dynamic Layers: false
Resampling: false
MaxRecordCount: 2000
MaxSelectionCount: 2000
MaxImageHeight: 4096
MaxImageWidth: 4096
Supported Query Formats: JSON, geoJSON, PBF
Supports Query Data Elements: true
Min Scale: 3.6978595474472E7
Max Scale: 9027.977411
Min LOD: 4
Max LOD: 16
Supports Datum Transformation: true
Child Resources:
Info
Supported Operations:
Export Map
Identify
QueryLegends
QueryDomains
Find
Return Updates
Generate KML