View In:
ArcGIS JavaScript
ArcGIS Online Map Viewer
ArcGIS Earth
ArcGIS Pro
Service Description: O Mapa Geológico Simplificada do Município de Góis foi elaborado pelo Laboratório Nacional de Energia e Geologia (LNEG), a pedido da Câmara Municipal de Góis, no seguimento do colóquio "Penedos de Góis - apresentação, propostas de classificação, valorização e promoção" em 2012. Este mapa é constituído pela geologia e principais geossitios do Município de Góis.
Map Name: Património Geológico de Góis
Legend
All Layers and Tables
Dynamic Legend
Dynamic All Layers
Layers:
Description: O Mapa Geológico Simplificada do Município de Góis foi elaborado pelo Laboratório Nacional de Energia e Geologia (LNEG), a pedido da Câmara Municipal de Góis, no seguimento do colóquio "Penedos de Góis - apresentação, propostas de classificação, valorização e promoção" em 2012. Este mapa é constituído pela geologia e principais geossitios do Município de Góis.
Service Item Id: 0a8d1ff5e49e4a34a8bebc288a709904
Copyright Text: LNEG - Laboratório Nacional de Energia e Geologia, I.P.
Spatial Reference:
102100
(3857)
LatestVCSWkid(0)
Single Fused Map Cache: true
Tile Info:
- Height: 256.0
- Width: 256.0
- DPI: 96.0
-
Levels of Detail: 24
-
Level ID: 1
[ Start Tile, End Tile ]
- Resolution: 78271.5169639999
- Scale: 2.95828763795777E8
-
Level ID: 2
[ Start Tile, End Tile ]
- Resolution: 39135.7584820001
- Scale: 1.47914381897889E8
-
Level ID: 3
[ Start Tile, End Tile ]
- Resolution: 19567.8792409999
- Scale: 7.3957190948944E7
-
Level ID: 4
[ Start Tile, End Tile ]
- Resolution: 9783.93962049996
- Scale: 3.6978595474472E7
-
Level ID: 5
[ Start Tile, End Tile ]
- Resolution: 4891.96981024998
- Scale: 1.8489297737236E7
- Format: PNG
- Compression Quality: 0.0
- Origin: X: -2.0037508342787E7
Y: 2.0037508342787E7
- Spatial Reference: 102100
(3857)
LatestVCSWkid(0)
Storage Info:
- Storage Format: esriMapCacheStorageModeCompactV2
- Packet Size: 128
Initial Extent:
XMin: -927689.9282851189
YMin: 4856437.887731163
XMax: -867788.1418148794
YMax: 4900623.392768839
Spatial Reference: 102100
(3857)
LatestVCSWkid(0)
Full Extent:
XMin: -910612.566399999
YMin: 4860165.498599999
XMax: -884865.5036999993
YMax: 4896895.781900004
Spatial Reference: 102100
(3857)
LatestVCSWkid(0)
Units: esriMeters
Supported Image Format Types: PNG32,PNG24,PNG,JPG,DIB,TIFF,EMF,PS,PDF,GIF,SVG,SVGZ,BMP
Document Info:
Title: Património Geológico de Góis
Author:
Comments: O Mapa Geológico Simplificada do Município de Góis foi elaborado pelo Laboratório Nacional de Energia e Geologia (LNEG), a pedido da Câmara Municipal de Góis, no seguimento do colóquio "Penedos de Góis - apresentação, propostas de classificação, valorização e promoção" em 2012. Este mapa é constituído pela geologia e principais geossitios do Município de Góis.
Subject: Património Geológico de Góis
Category:
Keywords: Geologia,Património geológico
AntialiasingMode: Fast
TextAntialiasingMode: Force
Supports Dynamic Layers: true
MaxRecordCount: 1000
MaxSelectionCount: 2000
MaxImageHeight: 4096
MaxImageWidth: 4096
Supported Query Formats: JSON, geoJSON, PBF
Supports Query Data Elements: true
Min Scale: 7.3957190948944E7
Max Scale: 9027.977411
Min LOD: 3
Max LOD: 16
Supports Datum Transformation: true
Child Resources:
Info
Dynamic Layer
Supported Operations:
Export Map
Identify
QueryLegends
QueryDomains
Find
Return Updates
Generate KML