View In:
ArcGIS JavaScript
ArcGIS Online Map Viewer
ArcGIS Earth
ArcGIS Pro
Service Description: <div style='text-align:Left;font-size:12pt'><div><div><p><span>A Carta Geológica do Arouca Geopark, publicada em 2024, foi editada com o objetivo de inventariar, caracterizar e avaliar os principais locais de interesse geológico deste magnífico Geoparque Mundial da UNESCO. Esta carta possui ainda um vasto conjunto de relevantes geossítios, aos quais foi atribuído um valor singular associado ao seu conteúdo geológico, ao seu uso (científico, educativo e/ou turístico) e à sua relevância (local, regional, nacional ou internacional).</span></p></div></div></div>
Map Name: Carta Geológica do Arouca Geopark
Legend
All Layers and Tables
Dynamic Legend
Dynamic All Layers
Layers:
Description: A Carta Geológica do Arouca Geopark, publicada em 2024, foi editada com o objetivo de inventariar, caracterizar e avaliar os principais locais de interesse geológico deste magnífico Geoparque Mundial da UNESCO. Esta carta possui ainda um vasto conjunto de relevantes geossítios, aos quais foi atribuído um valor singular associado ao seu conteúdo geológico, ao seu uso (científico, educativo e/ou turístico) e à sua relevância (local, regional, nacional ou internacional).
Service Item Id: 652fd81de9ce425ba6ccde4c5c4241e5
Copyright Text: LNEG - Laboratório Nacional de Energia e Geologia, I.P.
Spatial Reference:
102100
(3857)
LatestVCSWkid(0)
Single Fused Map Cache: true
Tile Info:
- Height: 256.0
- Width: 256.0
- DPI: 96.0
-
Levels of Detail: 24
-
Level ID: 1
[ Start Tile, End Tile ]
- Resolution: 78271.5169639999
- Scale: 2.95828763795777E8
-
Level ID: 2
[ Start Tile, End Tile ]
- Resolution: 39135.7584820001
- Scale: 1.47914381897889E8
-
Level ID: 3
[ Start Tile, End Tile ]
- Resolution: 19567.8792409999
- Scale: 7.3957190948944E7
-
Level ID: 4
[ Start Tile, End Tile ]
- Resolution: 9783.93962049996
- Scale: 3.6978595474472E7
-
Level ID: 5
[ Start Tile, End Tile ]
- Resolution: 4891.96981024998
- Scale: 1.8489297737236E7
- Format: PNG
- Compression Quality: 0.0
- Origin: X: -2.0037508342787E7
Y: 2.0037508342787E7
- Spatial Reference: 102100
(3857)
LatestVCSWkid(0)
Storage Info:
- Storage Format: esriMapCacheStorageModeCompactV2
- Packet Size: 128
Initial Extent:
XMin: -943808.2037937172
YMin: 4986162.960343795
XMax: -895587.7948528993
YMax: 5017992.399002673
Spatial Reference: 102100
(3857)
LatestVCSWkid(0)
Full Extent:
XMin: -938916.2401245146
YMin: 4989439.614997699
XMax: -900479.758522102
YMax: 5014715.744348767
Spatial Reference: 102100
(3857)
LatestVCSWkid(0)
Units: esriMeters
Supported Image Format Types: PNG32,PNG24,PNG,JPG,DIB,TIFF,EMF,PS,PDF,GIF,SVG,SVGZ,BMP
Document Info:
Title: Carta Geológica do Arouca Geopark
Author:
Comments: Carta Geológica do Arouca Geopark, na escala 1:50 000
Subject: Carta Geológica do Arouca Geopark, na escala 1:50 000
Category:
Keywords: cartografia geológica,Geologia,arouca
AntialiasingMode: Fast
TextAntialiasingMode: Force
Supports Dynamic Layers: true
Resampling: false
MaxRecordCount: 2000
MaxSelectionCount: 2000
MaxImageHeight: 4096
MaxImageWidth: 4096
Supported Query Formats: JSON, geoJSON, PBF
Supports Query Data Elements: true
Min Scale: 3.6978595474472E7
Max Scale: 4513.988705
Min LOD: 4
Max LOD: 17
Supports Datum Transformation: true
Child Resources:
Info
Dynamic Layer
Supported Operations:
Export Map
Identify
QueryLegends
QueryDomains
Find
Return Updates
Generate KML