View In:
ArcGIS JavaScript
ArcGIS Online Map Viewer
ArcGIS Earth
ArcGIS Pro
Service Description: Carta Geológica do Parque de Natureza de Noudar (Herdade da Coitadinha - Barrancos) à escala 1:10 000.
Map Name: Carta Geológica do Parque de Natureza de Noudar, escala 10 000
Legend
All Layers and Tables
Dynamic Legend
Dynamic All Layers
Layers:
Description: Carta Geológica do Parque de Natureza de Noudar (Herdade da Coitadinha - Barrancos) à escala 1:10 000.
Service Item Id: dc833619dcdd406b9928c89968a2d200
Copyright Text: LNEG - Laboratório Nacional de Energia e Geologia, I.P.
Spatial Reference:
102100
(3857)
LatestVCSWkid(0)
Single Fused Map Cache: true
Tile Info:
- Height: 256.0
- Width: 256.0
- DPI: 96.0
-
Levels of Detail: 24
-
Level ID: 1
[ Start Tile, End Tile ]
- Resolution: 78271.5169639999
- Scale: 2.95828763795777E8
-
Level ID: 2
[ Start Tile, End Tile ]
- Resolution: 39135.7584820001
- Scale: 1.47914381897889E8
-
Level ID: 3
[ Start Tile, End Tile ]
- Resolution: 19567.8792409999
- Scale: 7.3957190948944E7
-
Level ID: 4
[ Start Tile, End Tile ]
- Resolution: 9783.93962049996
- Scale: 3.6978595474472E7
-
Level ID: 5
[ Start Tile, End Tile ]
- Resolution: 4891.96981024998
- Scale: 1.8489297737236E7
- Format: PNG
- Compression Quality: 0.0
- Origin: X: -2.0037508342787E7
Y: 2.0037508342787E7
- Spatial Reference: 102100
(3857)
LatestVCSWkid(0)
Storage Info:
- Storage Format: esriMapCacheStorageModeCompactV2
- Packet Size: 128
Initial Extent:
XMin: -789893.9261974447
YMin: 4599286.011874098
XMax: -777913.5689033967
YMax: 4608123.112881634
Spatial Reference: 102100
(0)
LatestVCSWkid(0)
Full Extent:
XMin: -788749.4911469943
YMin: 4602062.83509998
XMax: -779058.0039538469
YMax: 4605981.29092576
Spatial Reference: 102100
(0)
LatestVCSWkid(0)
Units: esriMeters
Supported Image Format Types: PNG32,PNG24,PNG,JPG,DIB,TIFF,EMF,PS,PDF,GIF,SVG,SVGZ,BMP
Document Info:
Title: Carta Geológica do Parque de Natureza de Noudar, escala 10 000
Author:
Comments: Carta Geológica do Parque de Natureza de Noudar (Herdade da Coitadinha - Barrancos) à escala 1:10 000.
Subject: Carta Geológica do Parque de Natureza de Noudar (Herdade da Coitadinha - Barrancos) à escala 1:10 000.
Category:
Keywords: geologia,cartografia geológica,parques naturais,Noudar,Barrancos,Alentejo
AntialiasingMode: Fast
TextAntialiasingMode: Force
Supports Dynamic Layers: true
Resampling: false
MaxRecordCount: 1000
MaxSelectionCount: 2000
MaxImageHeight: 4096
MaxImageWidth: 4096
Supported Query Formats: JSON, geoJSON, PBF
Supports Query Data Elements: true
Min Scale: 7.3957190948944E7
Max Scale: 4513.988705
Min LOD: 3
Max LOD: 17
Supports Datum Transformation: true
Child Resources:
Info
Dynamic Layer
Supported Operations:
Export Map
Identify
QueryLegends
QueryDomains
Find
Return Updates
Generate KML