View In:
ArcGIS JavaScript
ArcGIS Online Map Viewer
ArcGIS Earth
ArcGIS Pro
Service Description: Mapa metalogenético da Zona Sul Portuguesa, à escala de 1:400 000, em que numa base geológica harmonizada, com critérios unificados entre Espanha e Portugal, estão representados os principais sinais metálicos localizados na área, indicando a sua magnitude, substância e morfologia. Esta cartografia é um produto resultante do projeto GEO-FPI: Observatório Transfronteiriço de valorização geoeconómica da Faixa Piritosa Ibérica, cofinanciado por fundos FEDER através do programa de cooperação territorial INTERREG POCTEP 2014-2020.
Map Name: Mapa Metalogenético da Zona Sul Portuguesa
Legend
All Layers and Tables
Dynamic Legend
Dynamic All Layers
Layers:
Description: Mapa metalogenético da Zona Sul Portuguesa, à escala de 1:400 000, em que numa base geológica harmonizada, com critérios unificados entre Espanha e Portugal, estão representados os principais sinais metálicos localizados na área, indicando a sua magnitude, substância e morfologia. Esta cartografia é um produto resultante do projeto GEO-FPI: Observatório Transfronteiriço de valorização geoeconómica da Faixa Piritosa Ibérica, cofinanciado por fundos FEDER através do programa de cooperação territorial INTERREG POCTEP 2014-2020.
Service Item Id: 3f73e958ce1346489adfc5c60aca84c1
Copyright Text: IGME e LNEG
Spatial Reference:
102100
(3857)
LatestVCSWkid(0)
Single Fused Map Cache: true
Tile Info:
- Height: 256.0
- Width: 256.0
- DPI: 96.0
-
Levels of Detail: 24
-
Level ID: 1
[ Start Tile, End Tile ]
- Resolution: 78271.5169639999
- Scale: 2.95828763795777E8
-
Level ID: 2
[ Start Tile, End Tile ]
- Resolution: 39135.7584820001
- Scale: 1.47914381897889E8
-
Level ID: 3
[ Start Tile, End Tile ]
- Resolution: 19567.8792409999
- Scale: 7.3957190948944E7
-
Level ID: 4
[ Start Tile, End Tile ]
- Resolution: 9783.93962049996
- Scale: 3.6978595474472E7
-
Level ID: 5
[ Start Tile, End Tile ]
- Resolution: 4891.96981024998
- Scale: 1.8489297737236E7
- Format: Mixed
- Compression Quality: 75.0
- Origin: X: -2.0037508342787E7
Y: 2.0037508342787E7
- Spatial Reference: 102100
(3857)
LatestVCSWkid(0)
Storage Info:
- Storage Format: esriMapCacheStorageModeCompactV2
- Packet Size: 128
Initial Extent:
XMin: -1043390.7661998288
YMin: 4417616.238089511
XMax: -639371.2081607126
YMax: 4704160.561178157
Spatial Reference: 102100
(3857)
LatestVCSWkid(0)
Full Extent:
XMin: -1057763.6273087305
YMin: 4403502.369727267
XMax: -624998.347051811
YMax: 4718274.4295404
Spatial Reference: 102100
(3857)
LatestVCSWkid(0)
Units: esriMeters
Supported Image Format Types: PNG32,PNG24,PNG,JPG,DIB,TIFF,EMF,PS,PDF,GIF,SVG,SVGZ,BMP
Document Info:
Title: Mapa Metalogenético da Zona Sul Portuguesa
Author:
Comments: Mapa Metalogenético da Zona Sul Portuguesa, escala 1:400 000. Edição 2020
Subject: Mapa Metalogenético da Zona Sul Portuguesa, escala 1:400 000. Edição 2020
Category:
Keywords: Recursos Minerais,Jazigos Metálicos,Zona Sul Portuguesa,IGME,LNEG,España,Portugal
AntialiasingMode: Fast
TextAntialiasingMode: Force
Supports Dynamic Layers: true
MaxRecordCount: 1000
MaxSelectionCount: 2000
MaxImageHeight: 4096
MaxImageWidth: 4096
Supported Query Formats: JSON, geoJSON, PBF
Supports Query Data Elements: true
Min Scale: 2.95828763795777E8
Max Scale: 18055.954822
Min LOD: 1
Max LOD: 15
Supports Datum Transformation: true
Child Resources:
Info
Dynamic Layer
Supported Operations:
Export Map
Identify
QueryLegends
QueryDomains
Find
Return Updates
Generate KML