View In:
ArcGIS JavaScript
ArcGIS Online Map Viewer
ArcGIS Earth
ArcGIS Pro
Service Description: Este mapa geológico coloca em evidência os mármores da região compreendida entre Viana do Alentejo-Alvito que corresponde a uma estrutura anticlinal controlada por falhas. Os mármores afloram em extensa área e apresentam grão grosseiro e cores esverdeadas, sendo explorados desde há muitos anos em algumas pedreiras de dimensões relativamente reduzidas.
Map Name: Mármores de Viana do Alentejo-Alvito
Legend
All Layers and Tables
Dynamic Legend
Dynamic All Layers
Layers:
Description: Este mapa geológico coloca em evidência os mármores da região compreendida entre Viana do Alentejo-Alvito que corresponde a uma estrutura anticlinal controlada por falhas. Os mármores afloram em extensa área e apresentam grão grosseiro e cores esverdeadas, sendo explorados desde há muitos anos em algumas pedreiras de dimensões relativamente reduzidas.
Service Item Id: 8d5e123633e14dea8454a09b1266b102
Copyright Text: LNEG - Laboratório Nacional de Energia e Geologia, I.P.
Spatial Reference:
102100
(3857)
LatestVCSWkid(0)
Single Fused Map Cache: true
Tile Info:
- Height: 256.0
- Width: 256.0
- DPI: 96.0
-
Levels of Detail: 24
-
Level ID: 1
[ Start Tile, End Tile ]
- Resolution: 78271.5169639999
- Scale: 2.95828763795777E8
-
Level ID: 2
[ Start Tile, End Tile ]
- Resolution: 39135.7584820001
- Scale: 1.47914381897889E8
-
Level ID: 3
[ Start Tile, End Tile ]
- Resolution: 19567.8792409999
- Scale: 7.3957190948944E7
-
Level ID: 4
[ Start Tile, End Tile ]
- Resolution: 9783.93962049996
- Scale: 3.6978595474472E7
-
Level ID: 5
[ Start Tile, End Tile ]
- Resolution: 4891.96981024998
- Scale: 1.8489297737236E7
- Format: PNG
- Compression Quality: 0.0
- Origin: X: -2.0037508342787E7
Y: 2.0037508342787E7
- Spatial Reference: 102100
(3857)
LatestVCSWkid(0)
Storage Info:
- Storage Format: esriMapCacheStorageModeCompactV2
- Packet Size: 128
Initial Extent:
XMin: -903016.3386513042
YMin: 4611596.176463713
XMax: -876081.7014486965
YMax: 4630699.131336289
Spatial Reference: 102100
(3857)
LatestVCSWkid(0)
Full Extent:
XMin: -893458.1167000011
YMin: 4614705.7205
XMax: -885639.9233999997
YMax: 4627589.587300003
Spatial Reference: 102100
(3857)
LatestVCSWkid(0)
Units: esriMeters
Supported Image Format Types: PNG32,PNG24,PNG,JPG,DIB,TIFF,EMF,PS,PDF,GIF,SVG,SVGZ,BMP
Document Info:
Title: Mármores de Viana do Alentejo – Alvito
Author:
Comments: Este mapa geológico coloca em evidência os mármores da região compreendida entre Viana do Alentejo – Alvito que corresponde a uma estrutura anticlinal controlada por falhas. Os mármores afloram em extensa área e apresentam grão grosseiro e cores esverdeadas, sendo explorados desde há muitos anos em algumas pedreiras de dimensões relativamente reduzidas.
Subject: Carta Litoestratigráfica Temática do Anticlinal de Viana do Castelo-Alvito (1999)
Category:
Keywords: Recursos Minerais
AntialiasingMode: Fast
TextAntialiasingMode: Force
Supports Dynamic Layers: true
Resampling: false
MaxRecordCount: 1000
MaxSelectionCount: 2000
MaxImageHeight: 4096
MaxImageWidth: 4096
Supported Query Formats: JSON, geoJSON, PBF
Supports Query Data Elements: true
Min Scale: 9244648.868618
Max Scale: 2256.994353
Min LOD: 6
Max LOD: 18
Supports Datum Transformation: true
Child Resources:
Info
Dynamic Layer
Supported Operations:
Export Map
Identify
QueryLegends
QueryDomains
Find
Return Updates
Generate KML