View In:
ArcGIS JavaScript
ArcGIS Online Map Viewer
ArcGIS Earth
ArcGIS Pro
Service Description: O Mapa Geológico de Espanha e Portugal à escala 1:1 000 000 editado pelo Instituto Geológico y Mineiro de España (IGME), em 2015, com a colaboração do Laboratório Nacional de Energia e Geologia (LNEG), constitui a versão atualizada da cartografia geológica da Península Ibérica assim como de Ceuta e Melilla e de todo o território insular de Espanha e Portugal: Ilhas Baleares, Canárias, Açores e Madeira. Esta versão inclui pela primeira vez a cartografia geológica da plataforma continental de ambos os países e das ilhas atlânticas. Neste mapa reune-se todo o conhecimento geológico proporcionado pela conclusão da série MAGNA de cartografia geológica à escala 1:50 0000 do IGME, para o território espanhol, e da cartografia geológica sistemática do território de Portugal realizada pelo LNEG. A parte continental do mapa foi compilada a partir de sínteses anteriores à escala 1:400 000 elaboradas para cada uma das grandes unidades geológicas de Espanha, nomeadamente, Maciço Varisco, Pirinéus, Cordilheira Bética, Cordilheira Cantábrica e Ibérica e Bacias do Douro, Tejo e Ebro, e na cartografia geológica à escala 1:200 000 realizada em Portugal.
Map Name: Mapa Geológico da Península Ibérica, Baleares, Canárias, Madeira e Açores escala 1M (IGME-LNEG)
Legend
All Layers and Tables
Dynamic Legend
Dynamic All Layers
Layers:
Description: O Mapa Geológico de Espanha e Portugal à escala 1:1 000 000 editado pelo Instituto Geológico y Mineiro de España (IGME), em 2015, com a colaboração do Laboratório Nacional de Energia e Geologia (LNEG), constitui a versão atualizada da cartografia geológica da Península Ibérica assim como de Ceuta e Melilla e de todo o território insular de Espanha e Portugal: Ilhas Baleares, Canárias, Açores e Madeira. Esta versão inclui pela primeira vez a cartografia geológica da plataforma continental de ambos os países e das ilhas atlânticas. Neste mapa reune-se todo o conhecimento geológico proporcionado pela conclusão da série MAGNA de cartografia geológica à escala 1:50 0000 do IGME, para o território espanhol, e da cartografia geológica sistemática do território de Portugal realizada pelo LNEG. A parte continental do mapa foi compilada a partir de sínteses anteriores à escala 1:400 000 elaboradas para cada uma das grandes unidades geológicas de Espanha, nomeadamente, Maciço Varisco, Pirinéus, Cordilheira Bética, Cordilheira Cantábrica e Ibérica e Bacias do Douro, Tejo e Ebro, e na cartografia geológica à escala 1:200 000 realizada em Portugal.
Service Item Id: 19529b959e6e4eaebd8019f9875edd09
Copyright Text: Laboratório Nacional de Energia e Geologia, I.P.
Spatial Reference:
102100
(3857)
LatestVCSWkid(0)
Single Fused Map Cache: true
Tile Info:
- Height: 256.0
- Width: 256.0
- DPI: 96.0
-
Levels of Detail: 24
-
Level ID: 1
[ Start Tile, End Tile ]
- Resolution: 78271.5169639999
- Scale: 2.95828763795777E8
-
Level ID: 2
[ Start Tile, End Tile ]
- Resolution: 39135.7584820001
- Scale: 1.47914381897889E8
-
Level ID: 3
[ Start Tile, End Tile ]
- Resolution: 19567.8792409999
- Scale: 7.3957190948944E7
-
Level ID: 4
[ Start Tile, End Tile ]
- Resolution: 9783.93962049996
- Scale: 3.6978595474472E7
-
Level ID: 5
[ Start Tile, End Tile ]
- Resolution: 4891.96981024998
- Scale: 1.8489297737236E7
- Format: PNG
- Compression Quality: 0.0
- Origin: X: -2.0037508342787E7
Y: 2.0037508342787E7
- Spatial Reference: 102100
(3857)
LatestVCSWkid(0)
Storage Info:
- Storage Format: esriMapCacheStorageModeCompactV2
- Packet Size: 128
Initial Extent:
XMin: -3367566.590621954
YMin: 2828776.763178764
XMax: 672628.989769208
YMax: 6011720.629066497
Spatial Reference: 102100
(0)
LatestVCSWkid(0)
Full Extent:
XMin: -3390840.076099143
YMin: 3099269.351537451
XMax: 555143.8603958272
YMax: 5733819.692557779
Spatial Reference: 102100
(0)
LatestVCSWkid(0)
Units: esriMeters
Supported Image Format Types: PNG32,PNG24,PNG,JPG,DIB,TIFF,EMF,PS,PDF,GIF,SVG,SVGZ,BMP
Document Info:
Title: Mapa Geológico da Península Ibérica, Baleares, Canárias, Madeira e Açores escala 1M (IGME-LNEG)
Author:
Comments: O Mapa Geológico de Espanha e Portugal à escala 1:1 000 000 editado pelo Instituto Geológico y Mineiro de España (IGME), em 2015, com a colaboração do Laboratório Nacional de Energia e Geologia (LNEG), constitui a versão atualizada da cartografia geológica da Península Ibérica assim como de Ceuta e Melilla e de todo o território insular de Espanha e Portugal: Ilhas Baleares, Canárias, Açores e Madeira. Esta versão inclui pela primeira vez a cartografia geológica da plataforma continental de ambos os países e das ilhas atlânticas. Neste mapa reune-se todo o conhecimento geológico proporcionado pela conclusão da série MAGNA de cartografia geológica à escala 1:50 0000 do IGME, para o território espanhol, e da cartografia geológica sistemática do território de Portugal realizada pelo LNEG. A parte continental do mapa foi compilada a partir de sínteses anteriores à escala 1:400 000 elaboradas para cada uma das grandes unidades geológicas de Espanha, nomeadamente, Maciço Varisco, Pirinéus, Cordilheira Bética, Cordilheira Cantábrica e Ibérica e Bacias do Douro, Tejo e Ebro, e na cartografia geológica à escala 1:200 000 realizada em Portugal.
Subject: Mapa Geológico da Península Ibérica, Baleares, Canárias, Madeira e Açores escala 1M (IGME-LNEG)
Category:
Keywords: geologia,cartografia geológica
AntialiasingMode: Fast
TextAntialiasingMode: Force
Supports Dynamic Layers: true
MaxRecordCount: 10000
MaxSelectionCount: 2000
MaxImageHeight: 4096
MaxImageWidth: 4096
Supported Query Formats: JSON, geoJSON, PBF
Supports Query Data Elements: true
Min Scale: 7.3957190948944E7
Max Scale: 72223.819286
Min LOD: 3
Max LOD: 13
Supports Datum Transformation: true
Child Resources:
Info
Dynamic Layer
Supported Operations:
Export Map
Identify
QueryLegends
QueryDomains
Find
Return Updates
Generate KML